BEGIN:VCALENDAR
VERSION:2.0
PRODID:-//Aspen Show Tix - ECPv6.15.18//NONSGML v1.0//EN
CALSCALE:GREGORIAN
METHOD:PUBLISH
X-WR-CALNAME:Aspen Show Tix
X-ORIGINAL-URL:https://aspenshowtix.com
X-WR-CALDESC:Events for Aspen Show Tix
REFRESH-INTERVAL;VALUE=DURATION:PT1H
X-Robots-Tag:noindex
X-PUBLISHED-TTL:PT1H
BEGIN:VTIMEZONE
TZID:America/Denver
BEGIN:DAYLIGHT
TZOFFSETFROM:-0700
TZOFFSETTO:-0600
TZNAME:MDT
DTSTART:20250309T090000
END:DAYLIGHT
BEGIN:STANDARD
TZOFFSETFROM:-0600
TZOFFSETTO:-0700
TZNAME:MST
DTSTART:20251102T080000
END:STANDARD
BEGIN:DAYLIGHT
TZOFFSETFROM:-0700
TZOFFSETTO:-0600
TZNAME:MDT
DTSTART:20260308T090000
END:DAYLIGHT
BEGIN:STANDARD
TZOFFSETFROM:-0600
TZOFFSETTO:-0700
TZNAME:MST
DTSTART:20261101T080000
END:STANDARD
BEGIN:DAYLIGHT
TZOFFSETFROM:-0700
TZOFFSETTO:-0600
TZNAME:MDT
DTSTART:20270314T090000
END:DAYLIGHT
BEGIN:STANDARD
TZOFFSETFROM:-0600
TZOFFSETTO:-0700
TZNAME:MST
DTSTART:20271107T080000
END:STANDARD
END:VTIMEZONE
BEGIN:VEVENT
DTSTART;TZID=America/Denver:20260612T193000
DTEND;TZID=America/Denver:20260612T193000
DTSTAMP:20260422T160457
CREATED:20260416T150000Z
LAST-MODIFIED:20260422T172742Z
UID:10000966-1781292600-1781292600@aspenshowtix.com
SUMMARY:Aspen Fringe Festival Day 1
DESCRIPTION:Aspen Fringe Festival presents the 18th annual JuneFestFeaturing Award winning Theatre\, Dance\, and FilmJune 12 – 13\, 2026\, at 7:30 pm at the Wheeler Opera House JUNE 12 — DANCE & FILM:   SILVER LININGS: Only in Darkness can you see the StarsA celebration of the human spirit through live dance and film.UNEXPECTED ENCOUNTERS — SOULSKIN Dance. Following its NYC Premiere at Alvin Ailey Dance Center.   A transformative ballet about how we collide\, diverge\, and reconnect.“A Ravishing Lust for Life…” – Dance EnthusiastDISAPPEARED — Alya Howe. Balancing disappearing values with hope’s renewal.GAS  LIGHTENING — Lilly Bright. Freedom is not for the Faint of Heart. — AFF FilmFest Award filmsDREAMADRE — Film by Elisabetta Carnevale. Inspired by Terpsichore\, the muse of Dance — for Mothers & Mother Earth.THE KEY — Film by Jaco Strydom. Past & future blur in a desert landscape on a memory trail of loss & desire.
URL:https://aspenshowtix.com/event/aspen-fringe-festival-day-1/
LOCATION:Wheeler Opera House\, 320 E Hyman Ave\, Aspen\, CO 81611\, 81611
ATTACH;FMTTYPE=image/jpeg:https://aspenshowtix.com/app/uploads/2026/04/cbffcd23-f178-4cbf-890a-d2cc1c722b72.jpg
END:VEVENT
BEGIN:VEVENT
DTSTART;TZID=America/Denver:20260613T193000
DTEND;TZID=America/Denver:20260613T193000
DTSTAMP:20260422T160457
CREATED:20260416T150000Z
LAST-MODIFIED:20260422T172744Z
UID:10000967-1781379000-1781379000@aspenshowtix.com
SUMMARY:Aspen Fringe Festival Day 2
DESCRIPTION:ASPEN FRINGE FESTIVAL presents the 18th annual JuneFest.  Featuring award-winning Theatre\, Dance\, and Film June 12–13\, 2026 at 7:30 pm\, Wheeler Opera HouseJUNE 13 — THEATRE:   STILL\, by Lia Romero  A funny\, thought-provoking play about lost love & second chances. “Best New American Play” — NY Outer Critics Circle Nominee. Nearly 30 years after their relationship ended\, Helen and Mark meet over drinks… and find themselves charmed and attracted all over again. When past choices and new secrets surface\, everything they believe about the future is called into question. Humorous and revealing\, Still explores the delicate dance between what connects us and what divides us.  Starring David Ledingham and Libby Rife\, directed by Maurice Lamee.“Juicy. Smart” — NY Times         “Romantic and timely” — TheaterMania
URL:https://aspenshowtix.com/event/aspen-fringe-festival-day-2/
LOCATION:Wheeler Opera House\, 320 E Hyman Ave\, Aspen\, CO 81611\, 81611
ATTACH;FMTTYPE=image/jpeg:https://aspenshowtix.com/app/uploads/2026/04/e1cf016d-61c8-4880-893b-cbe1bd74e700.jpeg
END:VEVENT
END:VCALENDAR