BEGIN:VCALENDAR
VERSION:2.0
PRODID:-//Aspen Show Tix - ECPv6.15.18//NONSGML v1.0//EN
CALSCALE:GREGORIAN
METHOD:PUBLISH
X-WR-CALNAME:Aspen Show Tix
X-ORIGINAL-URL:https://aspenshowtix.com
X-WR-CALDESC:Events for Aspen Show Tix
REFRESH-INTERVAL;VALUE=DURATION:PT1H
X-Robots-Tag:noindex
X-PUBLISHED-TTL:PT1H
BEGIN:VTIMEZONE
TZID:America/Denver
BEGIN:DAYLIGHT
TZOFFSETFROM:-0700
TZOFFSETTO:-0600
TZNAME:MDT
DTSTART:20240310T090000
END:DAYLIGHT
BEGIN:STANDARD
TZOFFSETFROM:-0600
TZOFFSETTO:-0700
TZNAME:MST
DTSTART:20241103T080000
END:STANDARD
BEGIN:DAYLIGHT
TZOFFSETFROM:-0700
TZOFFSETTO:-0600
TZNAME:MDT
DTSTART:20250309T090000
END:DAYLIGHT
BEGIN:STANDARD
TZOFFSETFROM:-0600
TZOFFSETTO:-0700
TZNAME:MST
DTSTART:20251102T080000
END:STANDARD
BEGIN:DAYLIGHT
TZOFFSETFROM:-0700
TZOFFSETTO:-0600
TZNAME:MDT
DTSTART:20260308T090000
END:DAYLIGHT
BEGIN:STANDARD
TZOFFSETFROM:-0600
TZOFFSETTO:-0700
TZNAME:MST
DTSTART:20261101T080000
END:STANDARD
END:VTIMEZONE
BEGIN:VEVENT
DTSTART;TZID=America/Denver:20251022T183000
DTEND;TZID=America/Denver:20251022T183000
DTSTAMP:20260420T121508
CREATED:20250508T150000Z
LAST-MODIFIED:20251024T172721Z
UID:10000728-1761157800-1761157800@aspenshowtix.com
SUMMARY:Wheeler Presents: Humans 2.0 by Circa
DESCRIPTION:Created by Yaron Lifschitz and the Circa EnsembleA symphony of acrobatics\, sound and light\, this is next level circus by Circa.Ten bodies appear in a flash of light. They move in harmony for a fleeting moment and then descend into a sinuous trance. Towers grow and decay\, bodies leap and are caught\, as physical limits are pushed to their extreme. Can we ever find a perfect balance or is adapting to constant change the only way forward? This next chapter of Circa’s internationally acclaimed Humans is a tightly woven choreography of bodies\, pulsing with music by composer Ori Lichtik and revealed in Paul Jackson’s dramatic lighting. Created by circus visionary Yaron Lifschitz\, Humans 2.0 is intimate\, primal and deeply engaged with the challenge of being human. Humans 2.0 is commissioned by The Mondavi Center\, UC DavisCirca acknowledges the assistance of the Australian Government through Creative Australia\, its principal arts investment and advisory body and the Queensland Government through Arts Queensland.
URL:https://aspenshowtix.com/event/wheeler-presents-circa-humans-2-0/
LOCATION:Wheeler Opera House\, 320 E Hyman Ave\, Aspen\, CO 81611\, 81611
ATTACH;FMTTYPE=image/jpeg:https://aspenshowtix.com/app/uploads/2025/05/9eb7acc2-10df-4fe6-99a8-4f5041660d1d.jpg
END:VEVENT
END:VCALENDAR